BEGIN:VCALENDAR
VERSION:2.0
PRODID:-//Site officiel de la commune d&#039;Argelliers - ECPv6.15.14//NONSGML v1.0//EN
CALSCALE:GREGORIAN
METHOD:PUBLISH
X-WR-CALNAME:Site officiel de la commune d&#039;Argelliers
X-ORIGINAL-URL:https://www.argelliers.fr
X-WR-CALDESC:Évènements pour Site officiel de la commune d&#039;Argelliers
REFRESH-INTERVAL;VALUE=DURATION:PT1H
X-Robots-Tag:noindex
X-PUBLISHED-TTL:PT1H
BEGIN:VTIMEZONE
TZID:Europe/Paris
BEGIN:DAYLIGHT
TZOFFSETFROM:+0100
TZOFFSETTO:+0200
TZNAME:CEST
DTSTART:20190331T010000
END:DAYLIGHT
BEGIN:STANDARD
TZOFFSETFROM:+0200
TZOFFSETTO:+0100
TZNAME:CET
DTSTART:20191027T010000
END:STANDARD
BEGIN:DAYLIGHT
TZOFFSETFROM:+0100
TZOFFSETTO:+0200
TZNAME:CEST
DTSTART:20200329T010000
END:DAYLIGHT
BEGIN:STANDARD
TZOFFSETFROM:+0200
TZOFFSETTO:+0100
TZNAME:CET
DTSTART:20201025T010000
END:STANDARD
BEGIN:DAYLIGHT
TZOFFSETFROM:+0100
TZOFFSETTO:+0200
TZNAME:CEST
DTSTART:20210328T010000
END:DAYLIGHT
BEGIN:STANDARD
TZOFFSETFROM:+0200
TZOFFSETTO:+0100
TZNAME:CET
DTSTART:20211031T010000
END:STANDARD
END:VTIMEZONE
BEGIN:VEVENT
DTSTART;TZID=Europe/Paris:20200312T183000
DTEND;TZID=Europe/Paris:20200312T203000
DTSTAMP:20260424T105958
CREATED:20200310T154556Z
LAST-MODIFIED:20260225T150453Z
UID:1022-1584037800-1584045000@www.argelliers.fr
SUMMARY:Réunion Publique "Ensemble\, Choisissons Argelliers !"
DESCRIPTION:L’équipe de « Ensemble\, Choisissons Argelliers ! » vous donne rendez-vous Jeudi 12 mars 2026\, à partir de 18 h 30\, salle Vert Paradis afin de vous présenter son programme\, échanger et répondre à vos questions. \nLa réunion sera clôturée par un pot de l’amitié.
URL:https://www.argelliers.fr/evenements/reunion-publique-ensemble-choisissons-argelliers/
LOCATION:Salle Vert Paradis
CATEGORIES:Réservation salle vert paradis association
ATTACH;FMTTYPE=image/png:https://www.argelliers.fr/wp-content/uploads/2020/03/logoECA.png
END:VEVENT
END:VCALENDAR